BEGIN:VCALENDAR
VERSION:2.0
PRODID:-//Sacred Heart School - Mundaring - ECPv6.15.20//NONSGML v1.0//EN
CALSCALE:GREGORIAN
METHOD:PUBLISH
X-WR-CALNAME:Sacred Heart School - Mundaring
X-ORIGINAL-URL:https://sacredheartps.wa.edu.au
X-WR-CALDESC:Events for Sacred Heart School - Mundaring
REFRESH-INTERVAL;VALUE=DURATION:PT1H
X-Robots-Tag:noindex
X-PUBLISHED-TTL:PT1H
BEGIN:VTIMEZONE
TZID:Australia/Perth
BEGIN:STANDARD
TZOFFSETFROM:+0800
TZOFFSETTO:+0800
TZNAME:AWST
DTSTART:20230101T000000
END:STANDARD
END:VTIMEZONE
BEGIN:VEVENT
DTSTART;TZID=Australia/Perth:20241101T090000
DTEND;TZID=Australia/Perth:20241101T100000
DTSTAMP:20260424T033935
CREATED:20240910T054149Z
LAST-MODIFIED:20240910T054149Z
UID:2407-1730451600-1730455200@sacredheartps.wa.edu.au
SUMMARY:All Saints Day Mass
DESCRIPTION:
URL:https://sacredheartps.wa.edu.au/calendar/all-saints-day-mass/
CATEGORIES:School Events
END:VEVENT
BEGIN:VEVENT
DTSTART;TZID=Australia/Perth:20241030T090000
DTEND;TZID=Australia/Perth:20241030T100000
DTSTAMP:20260424T033935
CREATED:20240910T054110Z
LAST-MODIFIED:20240910T054110Z
UID:2405-1730278800-1730282400@sacredheartps.wa.edu.au
SUMMARY:Assembly - Year 4
DESCRIPTION:
URL:https://sacredheartps.wa.edu.au/calendar/assembly-year-4/
CATEGORIES:School Events
END:VEVENT
BEGIN:VEVENT
DTSTART;TZID=Australia/Perth:20241027T093000
DTEND;TZID=Australia/Perth:20241027T103000
DTSTAMP:20260424T033935
CREATED:20240918T052140Z
LAST-MODIFIED:20240918T052140Z
UID:2454-1730021400-1730025000@sacredheartps.wa.edu.au
SUMMARY:Reconciliation Commitment Mass
DESCRIPTION:
URL:https://sacredheartps.wa.edu.au/calendar/reconciliation-commitment-mass-4/
CATEGORIES:School Events
END:VEVENT
BEGIN:VEVENT
DTSTART;TZID=Australia/Perth:20241026T180000
DTEND;TZID=Australia/Perth:20241026T190000
DTSTAMP:20260424T033935
CREATED:20240918T052048Z
LAST-MODIFIED:20240918T052048Z
UID:2452-1729965600-1729969200@sacredheartps.wa.edu.au
SUMMARY:Reconciliation Commitment Mass
DESCRIPTION:
URL:https://sacredheartps.wa.edu.au/calendar/reconciliation-commitment-mass-3/
CATEGORIES:School Events
END:VEVENT
BEGIN:VEVENT
DTSTART;TZID=Australia/Perth:20241023T143000
DTEND;TZID=Australia/Perth:20241023T180000
DTSTAMP:20260424T033935
CREATED:20240910T053328Z
LAST-MODIFIED:20240910T053328Z
UID:2397-1729693800-1729706400@sacredheartps.wa.edu.au
SUMMARY:School Open Night & Learning Journey
DESCRIPTION:
URL:https://sacredheartps.wa.edu.au/calendar/school-open-night-learning-journey/
CATEGORIES:School Events
END:VEVENT
BEGIN:VEVENT
DTSTART;TZID=Australia/Perth:20241023T143000
DTEND;TZID=Australia/Perth:20241023T180000
DTSTAMP:20260424T033935
CREATED:20240910T053119Z
LAST-MODIFIED:20240910T053119Z
UID:2395-1729693800-1729706400@sacredheartps.wa.edu.au
SUMMARY:Grandparents Day - Assembly (Music classes)
DESCRIPTION:
URL:https://sacredheartps.wa.edu.au/calendar/grandparents-day-assembly-music-classes/
CATEGORIES:School Events
END:VEVENT
BEGIN:VEVENT
DTSTART;TZID=Australia/Perth:20241016T180000
DTEND;TZID=Australia/Perth:20241016T193000
DTSTAMP:20260424T033935
CREATED:20240910T052642Z
LAST-MODIFIED:20240910T052642Z
UID:2389-1729101600-1729107000@sacredheartps.wa.edu.au
SUMMARY:Year 3 - Reconciliation Workshop
DESCRIPTION:
URL:https://sacredheartps.wa.edu.au/calendar/year-3-reconciliation-workshop/
CATEGORIES:School Events
END:VEVENT
BEGIN:VEVENT
DTSTART;TZID=Australia/Perth:20241016T090000
DTEND;TZID=Australia/Perth:20241016T100000
DTSTAMP:20260424T033935
CREATED:20240910T052518Z
LAST-MODIFIED:20240910T052518Z
UID:2387-1729069200-1729072800@sacredheartps.wa.edu.au
SUMMARY:Opening Term Mass
DESCRIPTION:
URL:https://sacredheartps.wa.edu.au/calendar/opening-term-mass-2/
CATEGORIES:School Events
END:VEVENT
BEGIN:VEVENT
DTSTART;TZID=Australia/Perth:20241005T083000
DTEND;TZID=Australia/Perth:20241005T103000
DTSTAMP:20260424T033935
CREATED:20240918T073549Z
LAST-MODIFIED:20240918T073549Z
UID:2458-1728117000-1728124200@sacredheartps.wa.edu.au
SUMMARY:School Busy Bee
DESCRIPTION:
URL:https://sacredheartps.wa.edu.au/calendar/school-busy-bee/
CATEGORIES:School Events
END:VEVENT
BEGIN:VEVENT
DTSTART;VALUE=DATE:20240919
DTEND;VALUE=DATE:20240920
DTSTAMP:20260424T033935
CREATED:20240621T072228Z
LAST-MODIFIED:20240621T072256Z
UID:2359-1726704000-1726790399@sacredheartps.wa.edu.au
SUMMARY:INTERSCHOOL ATHLETICS CARNIVAL - Years 3 to 6
DESCRIPTION:at Ern Clark Stadium
URL:https://sacredheartps.wa.edu.au/calendar/interschool-athletics-carnival/
CATEGORIES:School Events
END:VEVENT
BEGIN:VEVENT
DTSTART;TZID=Australia/Perth:20240918T090000
DTEND;TZID=Australia/Perth:20240918T100000
DTSTAMP:20260424T033935
CREATED:20240621T072119Z
LAST-MODIFIED:20240621T072119Z
UID:2357-1726650000-1726653600@sacredheartps.wa.edu.au
SUMMARY:Parish Mass
DESCRIPTION:Led by Years 3 & 4
URL:https://sacredheartps.wa.edu.au/calendar/parish-mass-2/
CATEGORIES:School Events
END:VEVENT
BEGIN:VEVENT
DTSTART;TZID=Australia/Perth:20240911T090000
DTEND;TZID=Australia/Perth:20240911T100000
DTSTAMP:20260424T033935
CREATED:20240621T071925Z
LAST-MODIFIED:20240621T072719Z
UID:2355-1726045200-1726048800@sacredheartps.wa.edu.au
SUMMARY:Assembly - Year 2
DESCRIPTION:
URL:https://sacredheartps.wa.edu.au/calendar/assembly-year-2/
CATEGORIES:School Events
END:VEVENT
BEGIN:VEVENT
DTSTART;TZID=Australia/Perth:20240904T090000
DTEND;TZID=Australia/Perth:20240904T100000
DTSTAMP:20260424T033935
CREATED:20240621T071707Z
LAST-MODIFIED:20240621T071727Z
UID:2348-1725440400-1725444000@sacredheartps.wa.edu.au
SUMMARY:Parish Mass
DESCRIPTION:Led by Years 5 & 6
URL:https://sacredheartps.wa.edu.au/calendar/parish-mass/
CATEGORIES:School Events
END:VEVENT
BEGIN:VEVENT
DTSTART;VALUE=DATE:20240830
DTEND;VALUE=DATE:20240831
DTSTAMP:20260424T033935
CREATED:20240621T071436Z
LAST-MODIFIED:20240621T071436Z
UID:2344-1724976000-1725062399@sacredheartps.wa.edu.au
SUMMARY:FACTION ATHLETICS CARNIVAL
DESCRIPTION:
URL:https://sacredheartps.wa.edu.au/calendar/faction-athletics-carnival/
CATEGORIES:School Events
END:VEVENT
BEGIN:VEVENT
DTSTART;TZID=Australia/Perth:20240828T090000
DTEND;TZID=Australia/Perth:20240828T100000
DTSTAMP:20260424T033935
CREATED:20240621T071254Z
LAST-MODIFIED:20240621T071254Z
UID:2340-1724835600-1724839200@sacredheartps.wa.edu.au
SUMMARY:Assembly - Kindergarten
DESCRIPTION:
URL:https://sacredheartps.wa.edu.au/calendar/assembly-kindergarten/
CATEGORIES:School Events
END:VEVENT
BEGIN:VEVENT
DTSTART;TZID=Australia/Perth:20240822T160000
DTEND;TZID=Australia/Perth:20240822T170000
DTSTAMP:20260424T033935
CREATED:20240621T071214Z
LAST-MODIFIED:20240621T071214Z
UID:2338-1724342400-1724346000@sacredheartps.wa.edu.au
SUMMARY:BIG VOICE CHOIR
DESCRIPTION:
URL:https://sacredheartps.wa.edu.au/calendar/big-voice-choir/
CATEGORIES:School Events
END:VEVENT
BEGIN:VEVENT
DTSTART;TZID=Australia/Perth:20240821T090000
DTEND;TZID=Australia/Perth:20240821T100000
DTSTAMP:20260424T033935
CREATED:20240621T071127Z
LAST-MODIFIED:20240801T035210Z
UID:2336-1724230800-1724234400@sacredheartps.wa.edu.au
SUMMARY:Assembly - Dress up Parade
DESCRIPTION:
URL:https://sacredheartps.wa.edu.au/calendar/assembly-dress-up-parade/
CATEGORIES:School Events
END:VEVENT
BEGIN:VEVENT
DTSTART;TZID=Australia/Perth:20240815T090000
DTEND;TZID=Australia/Perth:20240815T100000
DTSTAMP:20260424T033935
CREATED:20240621T070405Z
LAST-MODIFIED:20240621T070405Z
UID:2329-1723712400-1723716000@sacredheartps.wa.edu.au
SUMMARY:Mass - Feast of Assumption
DESCRIPTION:Led by O’Connor
URL:https://sacredheartps.wa.edu.au/calendar/mass-feast-of-assumption/
CATEGORIES:School Events
END:VEVENT
BEGIN:VEVENT
DTSTART;TZID=Australia/Perth:20240814T090000
DTEND;TZID=Australia/Perth:20240814T103000
DTSTAMP:20260424T033935
CREATED:20240801T035352Z
LAST-MODIFIED:20240801T035352Z
UID:2371-1723626000-1723631400@sacredheartps.wa.edu.au
SUMMARY:Assembly - Friendship Day (led by Year 6)
DESCRIPTION:Followed by a Morning Tea
URL:https://sacredheartps.wa.edu.au/calendar/assembly-friendship-day-led-by-year-6/
CATEGORIES:School Events
END:VEVENT
BEGIN:VEVENT
DTSTART;TZID=Australia/Perth:20240810T180000
DTEND;TZID=Australia/Perth:20240810T190000
DTSTAMP:20260424T033935
CREATED:20240621T070206Z
LAST-MODIFIED:20240621T070206Z
UID:2325-1723312800-1723316400@sacredheartps.wa.edu.au
SUMMARY:FIRST HOLY COMMUNION
DESCRIPTION:
URL:https://sacredheartps.wa.edu.au/calendar/first-holy-communion/
CATEGORIES:School Events
END:VEVENT
BEGIN:VEVENT
DTSTART;TZID=Australia/Perth:20240807T090000
DTEND;TZID=Australia/Perth:20240807T100000
DTSTAMP:20260424T033935
CREATED:20240621T065932Z
LAST-MODIFIED:20240621T065932Z
UID:2321-1723021200-1723024800@sacredheartps.wa.edu.au
SUMMARY:Assembly - Big Voice Choir (rehearsal)
DESCRIPTION:
URL:https://sacredheartps.wa.edu.au/calendar/assembly-big-voice-choir-rehearsal/
CATEGORIES:School Events
END:VEVENT
BEGIN:VEVENT
DTSTART;TZID=Australia/Perth:20240731T093000
DTEND;TZID=Australia/Perth:20240731T103000
DTSTAMP:20260424T033935
CREATED:20240621T065749Z
LAST-MODIFIED:20240621T065749Z
UID:2319-1722418200-1722421800@sacredheartps.wa.edu.au
SUMMARY:RE Assessment - Years 3 & 5 only
DESCRIPTION:
URL:https://sacredheartps.wa.edu.au/calendar/re-assessment-years-3-5-only/
CATEGORIES:School Events
END:VEVENT
BEGIN:VEVENT
DTSTART;TZID=Australia/Perth:20240731T090000
DTEND;TZID=Australia/Perth:20240731T093000
DTSTAMP:20260424T033935
CREATED:20240621T065646Z
LAST-MODIFIED:20240621T065646Z
UID:2317-1722416400-1722418200@sacredheartps.wa.edu.au
SUMMARY:Class Mass - Years 1 & 2
DESCRIPTION:
URL:https://sacredheartps.wa.edu.au/calendar/class-mass-years-1-2/
CATEGORIES:School Events
END:VEVENT
BEGIN:VEVENT
DTSTART;TZID=Australia/Perth:20240728T093000
DTEND;TZID=Australia/Perth:20240728T103000
DTSTAMP:20260424T033935
CREATED:20240227T012606Z
LAST-MODIFIED:20240227T012606Z
UID:2101-1722159000-1722162600@sacredheartps.wa.edu.au
SUMMARY:Communion Commitment Mass
DESCRIPTION:
URL:https://sacredheartps.wa.edu.au/calendar/communion-commitment-mass-2/
CATEGORIES:School Events
END:VEVENT
BEGIN:VEVENT
DTSTART;TZID=Australia/Perth:20240727T180000
DTEND;TZID=Australia/Perth:20240727T190000
DTSTAMP:20260424T033935
CREATED:20240227T012507Z
LAST-MODIFIED:20240227T012507Z
UID:2099-1722103200-1722106800@sacredheartps.wa.edu.au
SUMMARY:Communion Commitment Mass
DESCRIPTION:
URL:https://sacredheartps.wa.edu.au/calendar/communion-commitment-mass/
CATEGORIES:School Events
END:VEVENT
BEGIN:VEVENT
DTSTART;TZID=Australia/Perth:20240724T090000
DTEND;TZID=Australia/Perth:20240724T100000
DTSTAMP:20260424T033935
CREATED:20240621T065604Z
LAST-MODIFIED:20240621T065604Z
UID:2315-1721811600-1721815200@sacredheartps.wa.edu.au
SUMMARY:Opening Term Mass - led by Forrest
DESCRIPTION:
URL:https://sacredheartps.wa.edu.au/calendar/opening-term-mass-led-by-forrest/
CATEGORIES:School Events
END:VEVENT
BEGIN:VEVENT
DTSTART;TZID=Australia/Perth:20240717T180000
DTEND;TZID=Australia/Perth:20240717T193000
DTSTAMP:20260424T033935
CREATED:20240621T065504Z
LAST-MODIFIED:20240621T065504Z
UID:2313-1721239200-1721244600@sacredheartps.wa.edu.au
SUMMARY:First Communion - Parent Workshop
DESCRIPTION:
URL:https://sacredheartps.wa.edu.au/calendar/first-communion-parent-workshop/
CATEGORIES:School Events
END:VEVENT
BEGIN:VEVENT
DTSTART;TZID=Australia/Perth:20240717T090000
DTEND;TZID=Australia/Perth:20240717T093000
DTSTAMP:20260424T033935
CREATED:20240621T065412Z
LAST-MODIFIED:20240621T065412Z
UID:2311-1721206800-1721208600@sacredheartps.wa.edu.au
SUMMARY:Class Mass - Years 3 & 4
DESCRIPTION:
URL:https://sacredheartps.wa.edu.au/calendar/class-mass-years-3-4/
CATEGORIES:School Events
END:VEVENT
BEGIN:VEVENT
DTSTART;TZID=Australia/Perth:20240626T090000
DTEND;TZID=Australia/Perth:20240626T093000
DTSTAMP:20260424T033935
CREATED:20240326T071112Z
LAST-MODIFIED:20240326T071112Z
UID:2193-1719392400-1719394200@sacredheartps.wa.edu.au
SUMMARY:Class Mass - Years 5 and 6
DESCRIPTION:
URL:https://sacredheartps.wa.edu.au/calendar/class-mass-years-5-and-6-2/
CATEGORIES:School Events
END:VEVENT
BEGIN:VEVENT
DTSTART;TZID=Australia/Perth:20240624T090000
DTEND;TZID=Australia/Perth:20240624T100000
DTSTAMP:20260424T033935
CREATED:20240521T045352Z
LAST-MODIFIED:20240521T045352Z
UID:2251-1719219600-1719223200@sacredheartps.wa.edu.au
SUMMARY:Pre Kindy - School Photo Morning
DESCRIPTION:
URL:https://sacredheartps.wa.edu.au/calendar/pre-kindy-school-photo-morning/
CATEGORIES:School Events
END:VEVENT
END:VCALENDAR