BEGIN:VCALENDAR
VERSION:2.0
PRODID:-//Sacred Heart School - Mundaring - ECPv6.15.20//NONSGML v1.0//EN
CALSCALE:GREGORIAN
METHOD:PUBLISH
X-WR-CALNAME:Sacred Heart School - Mundaring
X-ORIGINAL-URL:https://sacredheartps.wa.edu.au
X-WR-CALDESC:Events for Sacred Heart School - Mundaring
REFRESH-INTERVAL;VALUE=DURATION:PT1H
X-Robots-Tag:noindex
X-PUBLISHED-TTL:PT1H
BEGIN:VTIMEZONE
TZID:Australia/Perth
BEGIN:STANDARD
TZOFFSETFROM:+0800
TZOFFSETTO:+0800
TZNAME:AWST
DTSTART:20250101T000000
END:STANDARD
END:VTIMEZONE
BEGIN:VEVENT
DTSTART;VALUE=DATE:20260612
DTEND;VALUE=DATE:20260613
DTSTAMP:20260424T020612
CREATED:20260331T064350Z
LAST-MODIFIED:20260331T064350Z
UID:3092-1781222400-1781308799@sacredheartps.wa.edu.au
SUMMARY:Sacred Heart Feast Day - Mass at 9am
DESCRIPTION:Commencing with Mass at 9am \nTabloid Activities at 11am \nTalent Show at 2.15pm
URL:https://sacredheartps.wa.edu.au/calendar/sacred-heart-feast-day-mass-at-9am/
CATEGORIES:School Events
END:VEVENT
BEGIN:VEVENT
DTSTART;TZID=Australia/Perth:20260624T090000
DTEND;TZID=Australia/Perth:20260624T093000
DTSTAMP:20260424T020612
CREATED:20260331T065901Z
LAST-MODIFIED:20260402T070326Z
UID:3102-1782291600-1782293400@sacredheartps.wa.edu.au
SUMMARY:Assembly - Year 3
DESCRIPTION:
URL:https://sacredheartps.wa.edu.au/calendar/assembly-13/
CATEGORIES:School Events
END:VEVENT
BEGIN:VEVENT
DTSTART;VALUE=DATE:20260703
DTEND;VALUE=DATE:20260704
DTSTAMP:20260424T020612
CREATED:20260331T070014Z
LAST-MODIFIED:20260331T070014Z
UID:3104-1783036800-1783123199@sacredheartps.wa.edu.au
SUMMARY:100 Days Celebration! - P&F Hot Chocolate/Fairy Bread
DESCRIPTION:
URL:https://sacredheartps.wa.edu.au/calendar/100-days-celebration-pf-hot-chocolate-fairy-bread/
CATEGORIES:School Events
END:VEVENT
END:VCALENDAR