BEGIN:VCALENDAR
VERSION:2.0
PRODID:-//Sacred Heart School - Mundaring - ECPv6.15.20//NONSGML v1.0//EN
CALSCALE:GREGORIAN
METHOD:PUBLISH
X-ORIGINAL-URL:https://sacredheartps.wa.edu.au
X-WR-CALDESC:Events for Sacred Heart School - Mundaring
REFRESH-INTERVAL;VALUE=DURATION:PT1H
X-Robots-Tag:noindex
X-PUBLISHED-TTL:PT1H
BEGIN:VTIMEZONE
TZID:Australia/Perth
BEGIN:STANDARD
TZOFFSETFROM:+0800
TZOFFSETTO:+0800
TZNAME:AWST
DTSTART:20240101T000000
END:STANDARD
END:VTIMEZONE
BEGIN:VEVENT
DTSTART;VALUE=DATE:20251217
DTEND;VALUE=DATE:20251218
DTSTAMP:20260423T224931
CREATED:20251217T025054Z
LAST-MODIFIED:20251217T025054Z
UID:2920-1765929600-1766015999@sacredheartps.wa.edu.au
SUMMARY:Parent Information Evening
DESCRIPTION:5pm\, 5.30pm and 6pm in the relevant classrooms
URL:https://sacredheartps.wa.edu.au/calendar/parent-information-evening-2/
CATEGORIES:School Events
END:VEVENT
BEGIN:VEVENT
DTSTART;TZID=Australia/Perth:20251211T180000
DTEND;TZID=Australia/Perth:20251211T190000
DTSTAMP:20260423T224931
CREATED:20250925T070204Z
LAST-MODIFIED:20250925T070204Z
UID:2870-1765476000-1765479600@sacredheartps.wa.edu.au
SUMMARY:Year 6 Graduation Ceremony - families
DESCRIPTION:In the Undercover Area
URL:https://sacredheartps.wa.edu.au/calendar/year-6-graduation-ceremony-families/
CATEGORIES:School Events
END:VEVENT
BEGIN:VEVENT
DTSTART;TZID=Australia/Perth:20251211T144500
DTEND;TZID=Australia/Perth:20251211T150000
DTSTAMP:20260423T224931
CREATED:20250925T065935Z
LAST-MODIFIED:20250925T070053Z
UID:2867-1765464300-1765465200@sacredheartps.wa.edu.au
SUMMARY:Year 6 Leaving Ceremony - students
DESCRIPTION:In the Undercover Area
URL:https://sacredheartps.wa.edu.au/calendar/year-6-leaving-ceremony/
CATEGORIES:School Events
END:VEVENT
BEGIN:VEVENT
DTSTART;TZID=Australia/Perth:20251209T180000
DTEND;TZID=Australia/Perth:20251209T200000
DTSTAMP:20260423T224931
CREATED:20250925T021857Z
LAST-MODIFIED:20250925T021857Z
UID:2853-1765303200-1765310400@sacredheartps.wa.edu.au
SUMMARY:CHRISTMAS CONCERT
DESCRIPTION:An Unexpected Christmas!
URL:https://sacredheartps.wa.edu.au/calendar/christmas-concert/
CATEGORIES:School Events
END:VEVENT
BEGIN:VEVENT
DTSTART;TZID=Australia/Perth:20251201T090000
DTEND;TZID=Australia/Perth:20251201T103000
DTSTAMP:20260423T224931
CREATED:20250925T021517Z
LAST-MODIFIED:20250925T021517Z
UID:2847-1764579600-1764585000@sacredheartps.wa.edu.au
SUMMARY:2026 Kindergarten Orientation
DESCRIPTION:
URL:https://sacredheartps.wa.edu.au/calendar/2026-kindergarten-orientation/
CATEGORIES:School Events
END:VEVENT
BEGIN:VEVENT
DTSTART;TZID=Australia/Perth:20251126T180000
DTEND;TZID=Australia/Perth:20251126T193000
DTSTAMP:20260423T224931
CREATED:20250925T021202Z
LAST-MODIFIED:20250925T021202Z
UID:2841-1764180000-1764185400@sacredheartps.wa.edu.au
SUMMARY:Annual Community Meeting - SAC & P&F
DESCRIPTION:
URL:https://sacredheartps.wa.edu.au/calendar/annual-community-meeting-sac-pf/
CATEGORIES:School Events
END:VEVENT
BEGIN:VEVENT
DTSTART;TZID=Australia/Perth:20251126T090000
DTEND;TZID=Australia/Perth:20251126T093000
DTSTAMP:20260423T224931
CREATED:20250925T020851Z
LAST-MODIFIED:20250925T020851Z
UID:2839-1764147600-1764149400@sacredheartps.wa.edu.au
SUMMARY:ASSEMBLY - Year 1
DESCRIPTION:
URL:https://sacredheartps.wa.edu.au/calendar/assembly-year-1-2/
CATEGORIES:School Events
END:VEVENT
BEGIN:VEVENT
DTSTART;TZID=Australia/Perth:20251112T090000
DTEND;TZID=Australia/Perth:20251112T093000
DTSTAMP:20260423T224931
CREATED:20250925T020205Z
LAST-MODIFIED:20250925T020205Z
UID:2827-1762938000-1762939800@sacredheartps.wa.edu.au
SUMMARY:ASSEMBLY - Year 2
DESCRIPTION:
URL:https://sacredheartps.wa.edu.au/calendar/assembly-year-2-2/
CATEGORIES:School Events
END:VEVENT
BEGIN:VEVENT
DTSTART;TZID=Australia/Perth:20251111T090000
DTEND;TZID=Australia/Perth:20251111T093000
DTSTAMP:20260423T224931
CREATED:20251106T071817Z
LAST-MODIFIED:20251106T071933Z
UID:2889-1762851600-1762853400@sacredheartps.wa.edu.au
SUMMARY:Remembrance Day Prayer
DESCRIPTION:
URL:https://sacredheartps.wa.edu.au/calendar/remembrance-day-prayer/
CATEGORIES:School Events
END:VEVENT
BEGIN:VEVENT
DTSTART;TZID=Australia/Perth:20251105T150000
DTEND;TZID=Australia/Perth:20251105T180000
DTSTAMP:20260423T224931
CREATED:20250925T020013Z
LAST-MODIFIED:20250925T020013Z
UID:2823-1762354800-1762365600@sacredheartps.wa.edu.au
SUMMARY:LEARNING JOURNEY
DESCRIPTION:
URL:https://sacredheartps.wa.edu.au/calendar/learning-journey/
CATEGORIES:School Events
END:VEVENT
BEGIN:VEVENT
DTSTART;TZID=Australia/Perth:20251022T090000
DTEND;TZID=Australia/Perth:20251022T100000
DTSTAMP:20260423T224931
CREATED:20250925T010920Z
LAST-MODIFIED:20250925T010920Z
UID:2803-1761123600-1761127200@sacredheartps.wa.edu.au
SUMMARY:ASSEMBLY - Year 3 plus Grandparents Day
DESCRIPTION:
URL:https://sacredheartps.wa.edu.au/calendar/assembly-year-3-plus-grandparents-day/
CATEGORIES:School Events
END:VEVENT
BEGIN:VEVENT
DTSTART;TZID=Australia/Perth:20250924T090000
DTEND;TZID=Australia/Perth:20250924T100000
DTSTAMP:20260423T224931
CREATED:20250812T080610Z
LAST-MODIFIED:20250812T080610Z
UID:2787-1758704400-1758708000@sacredheartps.wa.edu.au
SUMMARY:ASSEMBLY - Kindergarten
DESCRIPTION:
URL:https://sacredheartps.wa.edu.au/calendar/assembly-kindergarten-2/
CATEGORIES:School Events
END:VEVENT
BEGIN:VEVENT
DTSTART;VALUE=DATE:20250912
DTEND;VALUE=DATE:20250913
DTSTAMP:20260423T224931
CREATED:20250812T075433Z
LAST-MODIFIED:20250902T051907Z
UID:2765-1757635200-1757721599@sacredheartps.wa.edu.au
SUMMARY:FACTION ATHLETICS CARNIVAL
DESCRIPTION:
URL:https://sacredheartps.wa.edu.au/calendar/faction-athletics-carnival-2/
CATEGORIES:School Events
END:VEVENT
BEGIN:VEVENT
DTSTART;TZID=Australia/Perth:20250910T090000
DTEND;TZID=Australia/Perth:20250910T100000
DTSTAMP:20260423T224931
CREATED:20250812T075855Z
LAST-MODIFIED:20250812T075855Z
UID:2771-1757494800-1757498400@sacredheartps.wa.edu.au
SUMMARY:FRIENDSHIP DAY ASSEMBLY - Year 6
DESCRIPTION:
URL:https://sacredheartps.wa.edu.au/calendar/friendship-day-assembly-year-6/
CATEGORIES:School Events
END:VEVENT
BEGIN:VEVENT
DTSTART;TZID=Australia/Perth:20250903T090000
DTEND;TZID=Australia/Perth:20250903T100000
DTSTAMP:20260423T224931
CREATED:20250812T075340Z
LAST-MODIFIED:20250812T075340Z
UID:2763-1756890000-1756893600@sacredheartps.wa.edu.au
SUMMARY:ASSEMBLY - Pre-Primary
DESCRIPTION:
URL:https://sacredheartps.wa.edu.au/calendar/assembly-pre-primary-2/
CATEGORIES:School Events
END:VEVENT
BEGIN:VEVENT
DTSTART;TZID=Australia/Perth:20250820T090000
DTEND;TZID=Australia/Perth:20250820T100000
DTSTAMP:20260423T224931
CREATED:20250812T074751Z
LAST-MODIFIED:20250812T074751Z
UID:2749-1755680400-1755684000@sacredheartps.wa.edu.au
SUMMARY:ASSEMBLY - Costume Parade
DESCRIPTION:
URL:https://sacredheartps.wa.edu.au/calendar/assembly-costume-parade/
CATEGORIES:School Events
END:VEVENT
BEGIN:VEVENT
DTSTART;VALUE=DATE:20250811
DTEND;VALUE=DATE:20250812
DTSTAMP:20260423T224931
CREATED:20250812T073949Z
LAST-MODIFIED:20250812T073949Z
UID:2735-1754870400-1754956799@sacredheartps.wa.edu.au
SUMMARY:SCIENCE WEEK
DESCRIPTION:SciTech Online Incursions – Years 3 to 6 \n 
URL:https://sacredheartps.wa.edu.au/calendar/science-week/
CATEGORIES:School Events
END:VEVENT
BEGIN:VEVENT
DTSTART;TZID=Australia/Perth:20250702T090000
DTEND;TZID=Australia/Perth:20250702T093000
DTSTAMP:20260423T224931
CREATED:20250311T024808Z
LAST-MODIFIED:20250311T024808Z
UID:2688-1751446800-1751448600@sacredheartps.wa.edu.au
SUMMARY:Assembly
DESCRIPTION:
URL:https://sacredheartps.wa.edu.au/calendar/assembly-4/
CATEGORIES:School Events
END:VEVENT
BEGIN:VEVENT
DTSTART;TZID=Australia/Perth:20250627T090000
DTEND;TZID=Australia/Perth:20250627T100000
DTSTAMP:20260423T224931
CREATED:20250311T024732Z
LAST-MODIFIED:20250311T024732Z
UID:2686-1751014800-1751018400@sacredheartps.wa.edu.au
SUMMARY:Sacred Heart of Jesus - School Mass
DESCRIPTION:
URL:https://sacredheartps.wa.edu.au/calendar/sacred-heart-of-jesus-school-mass/
CATEGORIES:School Events
END:VEVENT
BEGIN:VEVENT
DTSTART;TZID=Australia/Perth:20250623T090000
DTEND;TZID=Australia/Perth:20250623T110000
DTSTAMP:20260423T224931
CREATED:20250311T024606Z
LAST-MODIFIED:20250311T024606Z
UID:2682-1750669200-1750676400@sacredheartps.wa.edu.au
SUMMARY:School Photos - Pre-Kindergarten and Catch up photos
DESCRIPTION:
URL:https://sacredheartps.wa.edu.au/calendar/school-photos-pre-kindergarten-and-catch-up-photos/
CATEGORIES:School Events
END:VEVENT
BEGIN:VEVENT
DTSTART;TZID=Australia/Perth:20250621T180000
DTEND;TZID=Australia/Perth:20250621T190000
DTSTAMP:20260423T224931
CREATED:20250311T024457Z
LAST-MODIFIED:20250311T024457Z
UID:2680-1750528800-1750532400@sacredheartps.wa.edu.au
SUMMARY:First Holy Communion - Sacrament
DESCRIPTION:
URL:https://sacredheartps.wa.edu.au/calendar/first-holy-communion-sacrament/
CATEGORIES:School Events
END:VEVENT
BEGIN:VEVENT
DTSTART;VALUE=DATE:20250610
DTEND;VALUE=DATE:20250611
DTSTAMP:20260423T224931
CREATED:20250311T024133Z
LAST-MODIFIED:20250311T024133Z
UID:2672-1749513600-1749599999@sacredheartps.wa.edu.au
SUMMARY:School Photo Day
DESCRIPTION:
URL:https://sacredheartps.wa.edu.au/calendar/school-photo-day/
CATEGORIES:School Events
END:VEVENT
BEGIN:VEVENT
DTSTART;TZID=Australia/Perth:20250604T090000
DTEND;TZID=Australia/Perth:20250604T093000
DTSTAMP:20260423T224931
CREATED:20250311T023908Z
LAST-MODIFIED:20250311T023908Z
UID:2666-1749027600-1749029400@sacredheartps.wa.edu.au
SUMMARY:Assembly
DESCRIPTION:
URL:https://sacredheartps.wa.edu.au/calendar/assembly-3/
CATEGORIES:School Events
END:VEVENT
BEGIN:VEVENT
DTSTART;VALUE=DATE:20250604
DTEND;VALUE=DATE:20250605
DTSTAMP:20260423T224931
CREATED:20250311T023953Z
LAST-MODIFIED:20250311T023953Z
UID:2668-1748995200-1749081599@sacredheartps.wa.edu.au
SUMMARY:Lifelink Launch
DESCRIPTION:
URL:https://sacredheartps.wa.edu.au/calendar/lifelink-launch/
CATEGORIES:School Events
END:VEVENT
BEGIN:VEVENT
DTSTART;TZID=Australia/Perth:20250528T180000
DTEND;TZID=Australia/Perth:20250528T193000
DTSTAMP:20260423T224931
CREATED:20250311T022930Z
LAST-MODIFIED:20250311T022930Z
UID:2660-1748455200-1748460600@sacredheartps.wa.edu.au
SUMMARY:First Holy Communion - Workshop
DESCRIPTION:
URL:https://sacredheartps.wa.edu.au/calendar/first-holy-communion-workshop/
CATEGORIES:School Events
END:VEVENT
BEGIN:VEVENT
DTSTART;TZID=Australia/Perth:20250521T090000
DTEND;TZID=Australia/Perth:20250521T093000
DTSTAMP:20260423T224931
CREATED:20250311T022553Z
LAST-MODIFIED:20250311T022553Z
UID:2654-1747818000-1747819800@sacredheartps.wa.edu.au
SUMMARY:Assembly
DESCRIPTION:
URL:https://sacredheartps.wa.edu.au/calendar/assembly-2/
CATEGORIES:School Events
END:VEVENT
BEGIN:VEVENT
DTSTART;TZID=Australia/Perth:20250516T090000
DTEND;TZID=Australia/Perth:20250516T150000
DTSTAMP:20260423T224931
CREATED:20250513T051319Z
LAST-MODIFIED:20250513T051319Z
UID:2709-1747386000-1747407600@sacredheartps.wa.edu.au
SUMMARY:Faction Cross Country
DESCRIPTION:Yr 3 to 6 from 9am to 12.30pm \nPP – Yr 2 from 1.30pm to 2.40pm
URL:https://sacredheartps.wa.edu.au/calendar/faction-cross-country/
CATEGORIES:School Events
END:VEVENT
BEGIN:VEVENT
DTSTART;TZID=Australia/Perth:20250317T080000
DTEND;TZID=Australia/Perth:20250317T170000
DTSTAMP:20260423T224931
CREATED:20241211T034927Z
LAST-MODIFIED:20241211T034927Z
UID:2567-1742198400-1742230800@sacredheartps.wa.edu.au
SUMMARY:NAPLAN - Years 3 & 5 (Numeracy)
DESCRIPTION:
URL:https://sacredheartps.wa.edu.au/calendar/naplan-years-3-5-numeracy-2/
CATEGORIES:School Events
END:VEVENT
BEGIN:VEVENT
DTSTART;VALUE=DATE:20250314
DTEND;VALUE=DATE:20250315
DTSTAMP:20260423T224931
CREATED:20241211T032455Z
LAST-MODIFIED:20241211T035048Z
UID:2563-1741910400-1741996799@sacredheartps.wa.edu.au
SUMMARY:NAPLAN - Years 3 & 5 (Language Conventions)
DESCRIPTION:
URL:https://sacredheartps.wa.edu.au/calendar/naplan-years-3-5-language-conventions/
CATEGORIES:School Events
END:VEVENT
BEGIN:VEVENT
DTSTART;VALUE=DATE:20250313
DTEND;VALUE=DATE:20250314
DTSTAMP:20260423T224931
CREATED:20241211T032320Z
LAST-MODIFIED:20241211T032320Z
UID:2561-1741824000-1741910399@sacredheartps.wa.edu.au
SUMMARY:NAPLAN - Years 3 & 5 (Reading)
DESCRIPTION:
URL:https://sacredheartps.wa.edu.au/calendar/naplan-years-3-5-reading-2/
CATEGORIES:School Events
END:VEVENT
END:VCALENDAR