BEGIN:VCALENDAR
VERSION:2.0
PRODID:-//Sacred Heart School - Mundaring - ECPv6.15.20//NONSGML v1.0//EN
CALSCALE:GREGORIAN
METHOD:PUBLISH
X-ORIGINAL-URL:https://sacredheartps.wa.edu.au
X-WR-CALDESC:Events for Sacred Heart School - Mundaring
REFRESH-INTERVAL;VALUE=DURATION:PT1H
X-Robots-Tag:noindex
X-PUBLISHED-TTL:PT1H
BEGIN:VTIMEZONE
TZID:Australia/Perth
BEGIN:STANDARD
TZOFFSETFROM:+0800
TZOFFSETTO:+0800
TZNAME:AWST
DTSTART:20250101T000000
END:STANDARD
END:VTIMEZONE
BEGIN:VEVENT
DTSTART;VALUE=DATE:20260202
DTEND;VALUE=DATE:20260203
DTSTAMP:20260423T223901
CREATED:20251217T024235Z
LAST-MODIFIED:20251217T025340Z
UID:2914-1769990400-1770076799@sacredheartps.wa.edu.au
SUMMARY:Term 1 - STUDENTS COMMENCE
DESCRIPTION:
URL:https://sacredheartps.wa.edu.au/calendar/term-1-students-commence/
CATEGORIES:School Events
END:VEVENT
END:VCALENDAR