BEGIN:VCALENDAR
VERSION:2.0
PRODID:-//Sacred Heart School - Mundaring - ECPv6.15.20//NONSGML v1.0//EN
CALSCALE:GREGORIAN
METHOD:PUBLISH
X-WR-CALNAME:Sacred Heart School - Mundaring
X-ORIGINAL-URL:https://sacredheartps.wa.edu.au
X-WR-CALDESC:Events for Sacred Heart School - Mundaring
REFRESH-INTERVAL;VALUE=DURATION:PT1H
X-Robots-Tag:noindex
X-PUBLISHED-TTL:PT1H
BEGIN:VTIMEZONE
TZID:Australia/Perth
BEGIN:STANDARD
TZOFFSETFROM:+0800
TZOFFSETTO:+0800
TZNAME:AWST
DTSTART:20250101T000000
END:STANDARD
END:VTIMEZONE
BEGIN:VEVENT
DTSTART;TZID=Australia/Perth:20260128T133000
DTEND;TZID=Australia/Perth:20260128T143000
DTSTAMP:20260423T224449
CREATED:20251217T024044Z
LAST-MODIFIED:20251217T024044Z
UID:2910-1769607000-1769610600@sacredheartps.wa.edu.au
SUMMARY:Uniform Shop - Open 1.30pm to 2.30pm
DESCRIPTION:
URL:https://sacredheartps.wa.edu.au/calendar/uniform-shop-open-1-30pm-to-2-30pm/
CATEGORIES:School Events
END:VEVENT
END:VCALENDAR