BEGIN:VCALENDAR
VERSION:2.0
PRODID:-//Sacred Heart School - Mundaring - ECPv6.15.20//NONSGML v1.0//EN
CALSCALE:GREGORIAN
METHOD:PUBLISH
X-ORIGINAL-URL:https://sacredheartps.wa.edu.au
X-WR-CALDESC:Events for Sacred Heart School - Mundaring
REFRESH-INTERVAL;VALUE=DURATION:PT1H
X-Robots-Tag:noindex
X-PUBLISHED-TTL:PT1H
BEGIN:VTIMEZONE
TZID:Australia/Perth
BEGIN:STANDARD
TZOFFSETFROM:+0800
TZOFFSETTO:+0800
TZNAME:AWST
DTSTART:20240101T000000
END:STANDARD
END:VTIMEZONE
BEGIN:VEVENT
DTSTART;VALUE=DATE:20250228
DTEND;VALUE=DATE:20250301
DTSTAMP:20260424T174638
CREATED:20241211T031137Z
LAST-MODIFIED:20241211T031137Z
UID:2551-1740700800-1740787199@sacredheartps.wa.edu.au
SUMMARY:FACTION SWIMMING CARNIVAL - Year's 1 to 6
DESCRIPTION:
URL:https://sacredheartps.wa.edu.au/calendar/faction-swimming-carnival-years-1-to-6/
CATEGORIES:School Events
END:VEVENT
END:VCALENDAR