BEGIN:VCALENDAR
VERSION:2.0
PRODID:-//Sacred Heart School - Mundaring - ECPv6.15.20//NONSGML v1.0//EN
CALSCALE:GREGORIAN
METHOD:PUBLISH
X-ORIGINAL-URL:https://sacredheartps.wa.edu.au
X-WR-CALDESC:Events for Sacred Heart School - Mundaring
REFRESH-INTERVAL;VALUE=DURATION:PT1H
X-Robots-Tag:noindex
X-PUBLISHED-TTL:PT1H
BEGIN:VTIMEZONE
TZID:Australia/Perth
BEGIN:STANDARD
TZOFFSETFROM:+0800
TZOFFSETTO:+0800
TZNAME:AWST
DTSTART:20230101T000000
END:STANDARD
END:VTIMEZONE
BEGIN:VEVENT
DTSTART;TZID=Australia/Perth:20240815T090000
DTEND;TZID=Australia/Perth:20240815T100000
DTSTAMP:20260425T035820
CREATED:20240621T070405Z
LAST-MODIFIED:20240621T070405Z
UID:2329-1723712400-1723716000@sacredheartps.wa.edu.au
SUMMARY:Mass - Feast of Assumption
DESCRIPTION:Led by O’Connor
URL:https://sacredheartps.wa.edu.au/calendar/mass-feast-of-assumption/
CATEGORIES:School Events
END:VEVENT
END:VCALENDAR