BEGIN:VCALENDAR
VERSION:2.0
PRODID:-//Sacred Heart School - Mundaring - ECPv6.15.20//NONSGML v1.0//EN
CALSCALE:GREGORIAN
METHOD:PUBLISH
X-WR-CALNAME:Sacred Heart School - Mundaring
X-ORIGINAL-URL:https://sacredheartps.wa.edu.au
X-WR-CALDESC:Events for Sacred Heart School - Mundaring
REFRESH-INTERVAL;VALUE=DURATION:PT1H
X-Robots-Tag:noindex
X-PUBLISHED-TTL:PT1H
BEGIN:VTIMEZONE
TZID:Australia/Perth
BEGIN:STANDARD
TZOFFSETFROM:+0800
TZOFFSETTO:+0800
TZNAME:AWST
DTSTART:20250101T000000
END:STANDARD
END:VTIMEZONE
BEGIN:VEVENT
DTSTART;TZID=Australia/Perth:20260304T090000
DTEND;TZID=Australia/Perth:20260304T100000
DTSTAMP:20260423T200754
CREATED:20251217T030205Z
LAST-MODIFIED:20251217T030205Z
UID:2940-1772614800-1772618400@sacredheartps.wa.edu.au
SUMMARY:Parish Mass
DESCRIPTION:
URL:https://sacredheartps.wa.edu.au/calendar/parish-mass-3/
CATEGORIES:School Events
END:VEVENT
BEGIN:VEVENT
DTSTART;TZID=Australia/Perth:20260311T090000
DTEND;TZID=Australia/Perth:20260311T093000
DTSTAMP:20260423T200754
CREATED:20251217T034514Z
LAST-MODIFIED:20251217T034514Z
UID:2956-1773219600-1773221400@sacredheartps.wa.edu.au
SUMMARY:ASSEMBLY
DESCRIPTION:
URL:https://sacredheartps.wa.edu.au/calendar/assembly-7/
CATEGORIES:School Events
END:VEVENT
BEGIN:VEVENT
DTSTART;TZID=Australia/Perth:20260318T090000
DTEND;TZID=Australia/Perth:20260318T100000
DTSTAMP:20260423T200754
CREATED:20251217T034556Z
LAST-MODIFIED:20260313T030542Z
UID:2958-1773824400-1773828000@sacredheartps.wa.edu.au
SUMMARY:St Josephs Day - Mass
DESCRIPTION:
URL:https://sacredheartps.wa.edu.au/calendar/st-josephs-day-mass/
CATEGORIES:School Events
END:VEVENT
BEGIN:VEVENT
DTSTART;TZID=Australia/Perth:20260318T120000
DTEND;TZID=Australia/Perth:20260318T143000
DTSTAMP:20260423T200754
CREATED:20251217T034218Z
LAST-MODIFIED:20260313T030824Z
UID:2948-1773835200-1773844200@sacredheartps.wa.edu.au
SUMMARY:Junior Swimming Carnival (Year 1 & 2)
DESCRIPTION:
URL:https://sacredheartps.wa.edu.au/calendar/junior-swimming-carnival-tbc/
CATEGORIES:School Events
END:VEVENT
END:VCALENDAR