BEGIN:VCALENDAR
VERSION:2.0
PRODID:-//Sacred Heart School - Mundaring - ECPv6.15.20//NONSGML v1.0//EN
CALSCALE:GREGORIAN
METHOD:PUBLISH
X-ORIGINAL-URL:https://sacredheartps.wa.edu.au
X-WR-CALDESC:Events for Sacred Heart School - Mundaring
REFRESH-INTERVAL;VALUE=DURATION:PT1H
X-Robots-Tag:noindex
X-PUBLISHED-TTL:PT1H
BEGIN:VTIMEZONE
TZID:Australia/Perth
BEGIN:STANDARD
TZOFFSETFROM:+0800
TZOFFSETTO:+0800
TZNAME:AWST
DTSTART:20230101T000000
END:STANDARD
END:VTIMEZONE
BEGIN:VEVENT
DTSTART;TZID=Australia/Perth:20241101T090000
DTEND;TZID=Australia/Perth:20241101T100000
DTSTAMP:20260424T200017
CREATED:20240910T054149Z
LAST-MODIFIED:20240910T054149Z
UID:2407-1730451600-1730455200@sacredheartps.wa.edu.au
SUMMARY:All Saints Day Mass
DESCRIPTION:
URL:https://sacredheartps.wa.edu.au/calendar/all-saints-day-mass/
CATEGORIES:School Events
END:VEVENT
BEGIN:VEVENT
DTSTART;TZID=Australia/Perth:20241102T180000
DTEND;TZID=Australia/Perth:20241102T190000
DTSTAMP:20260424T200017
CREATED:20240227T013614Z
LAST-MODIFIED:20240227T013614Z
UID:2109-1730570400-1730574000@sacredheartps.wa.edu.au
SUMMARY:Reconciliation Commitment Mass
DESCRIPTION:
URL:https://sacredheartps.wa.edu.au/calendar/reconciliation-commitment-mass/
CATEGORIES:School Events
END:VEVENT
BEGIN:VEVENT
DTSTART;TZID=Australia/Perth:20241103T093000
DTEND;TZID=Australia/Perth:20241103T103000
DTSTAMP:20260424T200017
CREATED:20240227T013655Z
LAST-MODIFIED:20240227T013655Z
UID:2111-1730626200-1730629800@sacredheartps.wa.edu.au
SUMMARY:Reconciliation Commitment Mass
DESCRIPTION:
URL:https://sacredheartps.wa.edu.au/calendar/reconciliation-commitment-mass-2/
CATEGORIES:School Events
END:VEVENT
BEGIN:VEVENT
DTSTART;TZID=Australia/Perth:20241106T133000
DTEND;TZID=Australia/Perth:20241106T150000
DTSTAMP:20260424T200017
CREATED:20240910T063817Z
LAST-MODIFIED:20240910T063817Z
UID:2416-1730899800-1730905200@sacredheartps.wa.edu.au
SUMMARY:Y-Safe Session - Years 5 & 6
DESCRIPTION:
URL:https://sacredheartps.wa.edu.au/calendar/y-safe-session-years-5-6/
CATEGORIES:School Events
END:VEVENT
BEGIN:VEVENT
DTSTART;TZID=Australia/Perth:20241106T180000
DTEND;TZID=Australia/Perth:20241106T193000
DTSTAMP:20260424T200017
CREATED:20240910T063902Z
LAST-MODIFIED:20240910T063902Z
UID:2418-1730916000-1730921400@sacredheartps.wa.edu.au
SUMMARY:Y-Safe Session for Parents
DESCRIPTION:
URL:https://sacredheartps.wa.edu.au/calendar/y-safe-session-for-parents/
CATEGORIES:School Events
END:VEVENT
BEGIN:VEVENT
DTSTART;TZID=Australia/Perth:20241113T090000
DTEND;TZID=Australia/Perth:20241113T100000
DTSTAMP:20260424T200017
CREATED:20240910T063939Z
LAST-MODIFIED:20240910T063939Z
UID:2420-1731488400-1731492000@sacredheartps.wa.edu.au
SUMMARY:Assembly - Year 1
DESCRIPTION:
URL:https://sacredheartps.wa.edu.au/calendar/assembly-year-1/
CATEGORIES:School Events
END:VEVENT
BEGIN:VEVENT
DTSTART;TZID=Australia/Perth:20241119T143000
DTEND;TZID=Australia/Perth:20241119T150000
DTSTAMP:20260424T200017
CREATED:20240910T064127Z
LAST-MODIFIED:20240910T064127Z
UID:2422-1732026600-1732028400@sacredheartps.wa.edu.au
SUMMARY:First Reconciliation Liturgy
DESCRIPTION:In the Year 3 classroom
URL:https://sacredheartps.wa.edu.au/calendar/first-reconciliation-liturgy/
CATEGORIES:School Events
END:VEVENT
BEGIN:VEVENT
DTSTART;TZID=Australia/Perth:20241119T170000
DTEND;TZID=Australia/Perth:20241119T183000
DTSTAMP:20260424T200017
CREATED:20240910T064229Z
LAST-MODIFIED:20240910T064229Z
UID:2424-1732035600-1732041000@sacredheartps.wa.edu.au
SUMMARY:First Reconciliation Sacrament
DESCRIPTION:In the Church
URL:https://sacredheartps.wa.edu.au/calendar/first-reconciliation-sacrament/
CATEGORIES:School Events
END:VEVENT
BEGIN:VEVENT
DTSTART;TZID=Australia/Perth:20241120T090000
DTEND;TZID=Australia/Perth:20241120T100000
DTSTAMP:20260424T200017
CREATED:20240910T064313Z
LAST-MODIFIED:20240910T064313Z
UID:2426-1732093200-1732096800@sacredheartps.wa.edu.au
SUMMARY:Assembly - Piano Student Recital
DESCRIPTION:
URL:https://sacredheartps.wa.edu.au/calendar/assembly-piano-student-recital/
CATEGORIES:School Events
END:VEVENT
BEGIN:VEVENT
DTSTART;TZID=Australia/Perth:20241127T090000
DTEND;TZID=Australia/Perth:20241127T093000
DTSTAMP:20260424T200017
CREATED:20240910T064439Z
LAST-MODIFIED:20240910T064439Z
UID:2430-1732698000-1732699800@sacredheartps.wa.edu.au
SUMMARY:Advent Liturgy
DESCRIPTION:
URL:https://sacredheartps.wa.edu.au/calendar/advent-liturgy/
CATEGORIES:School Events
END:VEVENT
END:VCALENDAR