BEGIN:VCALENDAR
VERSION:2.0
PRODID:-//Sacred Heart School - Mundaring - ECPv6.15.20//NONSGML v1.0//EN
CALSCALE:GREGORIAN
METHOD:PUBLISH
X-WR-CALNAME:Sacred Heart School - Mundaring
X-ORIGINAL-URL:https://sacredheartps.wa.edu.au
X-WR-CALDESC:Events for Sacred Heart School - Mundaring
REFRESH-INTERVAL;VALUE=DURATION:PT1H
X-Robots-Tag:noindex
X-PUBLISHED-TTL:PT1H
BEGIN:VTIMEZONE
TZID:Australia/Perth
BEGIN:STANDARD
TZOFFSETFROM:+0800
TZOFFSETTO:+0800
TZNAME:AWST
DTSTART:20230101T000000
END:STANDARD
END:VTIMEZONE
BEGIN:VEVENT
DTSTART;TZID=Australia/Perth:20240501T090000
DTEND;TZID=Australia/Perth:20240501T093000
DTSTAMP:20260425T084834
CREATED:20240326T064121Z
LAST-MODIFIED:20240326T064121Z
UID:2140-1714554000-1714555800@sacredheartps.wa.edu.au
SUMMARY:Assembly - Merit Awards Only
DESCRIPTION:No Performance
URL:https://sacredheartps.wa.edu.au/calendar/assembly-merit-awards-only/
CATEGORIES:School Events
END:VEVENT
BEGIN:VEVENT
DTSTART;TZID=Australia/Perth:20240501T173000
DTEND;TZID=Australia/Perth:20240501T183000
DTSTAMP:20260425T084834
CREATED:20240326T064244Z
LAST-MODIFIED:20240326T064244Z
UID:2142-1714584600-1714588200@sacredheartps.wa.edu.au
SUMMARY:Sacrament of Confirmation - Workshop
DESCRIPTION:Parent and child workshop in the Library
URL:https://sacredheartps.wa.edu.au/calendar/sacrament-of-confirmation-workshop/
CATEGORIES:School Events
END:VEVENT
BEGIN:VEVENT
DTSTART;TZID=Australia/Perth:20240504T180000
DTEND;TZID=Australia/Perth:20240504T190000
DTSTAMP:20260425T084834
CREATED:20240227T013305Z
LAST-MODIFIED:20240227T013305Z
UID:2105-1714845600-1714849200@sacredheartps.wa.edu.au
SUMMARY:Confirmation Commitment Mass
DESCRIPTION:
URL:https://sacredheartps.wa.edu.au/calendar/confirmation-commitment-mass-2/
CATEGORIES:School Events
END:VEVENT
BEGIN:VEVENT
DTSTART;TZID=Australia/Perth:20240505T093000
DTEND;TZID=Australia/Perth:20240505T103000
DTSTAMP:20260425T084834
CREATED:20240227T013148Z
LAST-MODIFIED:20240227T013224Z
UID:2103-1714901400-1714905000@sacredheartps.wa.edu.au
SUMMARY:Confirmation Commitment Mass
DESCRIPTION:
URL:https://sacredheartps.wa.edu.au/calendar/confirmation-commitment-mass/
CATEGORIES:School Events
END:VEVENT
BEGIN:VEVENT
DTSTART;TZID=Australia/Perth:20240508T090000
DTEND;TZID=Australia/Perth:20240508T093000
DTSTAMP:20260425T084834
CREATED:20240326T064838Z
LAST-MODIFIED:20240326T064838Z
UID:2148-1715158800-1715160600@sacredheartps.wa.edu.au
SUMMARY:Assembly - Pre Primary
DESCRIPTION:
URL:https://sacredheartps.wa.edu.au/calendar/assembly-pre-primary/
CATEGORIES:School Events
END:VEVENT
BEGIN:VEVENT
DTSTART;VALUE=DATE:20240514
DTEND;VALUE=DATE:20240515
DTSTAMP:20260425T084834
CREATED:20240326T065034Z
LAST-MODIFIED:20240326T065034Z
UID:2154-1715644800-1715731199@sacredheartps.wa.edu.au
SUMMARY:Basketball Competition - Year 6
DESCRIPTION:Kalamunda Venue
URL:https://sacredheartps.wa.edu.au/calendar/basketball-competition-year-6/
CATEGORIES:School Events
END:VEVENT
BEGIN:VEVENT
DTSTART;TZID=Australia/Perth:20240515T090000
DTEND;TZID=Australia/Perth:20240515T093000
DTSTAMP:20260425T084834
CREATED:20240326T065117Z
LAST-MODIFIED:20240326T065117Z
UID:2156-1715763600-1715765400@sacredheartps.wa.edu.au
SUMMARY:Class Mass - Years 5 and 6
DESCRIPTION:
URL:https://sacredheartps.wa.edu.au/calendar/class-mass-years-5-and-6/
CATEGORIES:School Events
END:VEVENT
BEGIN:VEVENT
DTSTART;TZID=Australia/Perth:20240518T180000
DTEND;TZID=Australia/Perth:20240518T190000
DTSTAMP:20260425T084834
CREATED:20240227T013414Z
LAST-MODIFIED:20240227T013414Z
UID:2107-1716055200-1716058800@sacredheartps.wa.edu.au
SUMMARY:Sacrament of Confirmation
DESCRIPTION:
URL:https://sacredheartps.wa.edu.au/calendar/sacrament-of-confirmation/
CATEGORIES:School Events
END:VEVENT
BEGIN:VEVENT
DTSTART;TZID=Australia/Perth:20240522T090000
DTEND;TZID=Australia/Perth:20240522T093000
DTSTAMP:20260425T084834
CREATED:20240326T065329Z
LAST-MODIFIED:20240326T065329Z
UID:2162-1716368400-1716370200@sacredheartps.wa.edu.au
SUMMARY:Assembly - Year 5
DESCRIPTION:
URL:https://sacredheartps.wa.edu.au/calendar/assembly-year-5/
CATEGORIES:School Events
END:VEVENT
BEGIN:VEVENT
DTSTART;VALUE=DATE:20240523
DTEND;VALUE=DATE:20240524
DTSTAMP:20260425T084834
CREATED:20240326T065409Z
LAST-MODIFIED:20240326T065409Z
UID:2164-1716422400-1716508799@sacredheartps.wa.edu.au
SUMMARY:Basketball Competition - Year 6
DESCRIPTION:Mundaring Venue
URL:https://sacredheartps.wa.edu.au/calendar/basketball-competition-year-6-2/
CATEGORIES:School Events
END:VEVENT
BEGIN:VEVENT
DTSTART;VALUE=DATE:20240524
DTEND;VALUE=DATE:20240525
DTSTAMP:20260425T084834
CREATED:20240326T065515Z
LAST-MODIFIED:20240326T065515Z
UID:2166-1716508800-1716595199@sacredheartps.wa.edu.au
SUMMARY:Interschool Cross Country Carnival
DESCRIPTION:at Good Shepherd School\, Kelmscott
URL:https://sacredheartps.wa.edu.au/calendar/interschool-cross-country-carnival/
CATEGORIES:School Events
END:VEVENT
BEGIN:VEVENT
DTSTART;TZID=Australia/Perth:20240529T090000
DTEND;TZID=Australia/Perth:20240529T093000
DTSTAMP:20260425T084834
CREATED:20240326T065625Z
LAST-MODIFIED:20240326T065625Z
UID:2168-1716973200-1716975000@sacredheartps.wa.edu.au
SUMMARY:Class Mass - Years 3 and 4
DESCRIPTION:
URL:https://sacredheartps.wa.edu.au/calendar/class-mass-years-3-and-4/
CATEGORIES:School Events
END:VEVENT
END:VCALENDAR