BEGIN:VCALENDAR
VERSION:2.0
PRODID:-//Sacred Heart School - Mundaring - ECPv6.15.20//NONSGML v1.0//EN
CALSCALE:GREGORIAN
METHOD:PUBLISH
X-ORIGINAL-URL:https://sacredheartps.wa.edu.au
X-WR-CALDESC:Events for Sacred Heart School - Mundaring
REFRESH-INTERVAL;VALUE=DURATION:PT1H
X-Robots-Tag:noindex
X-PUBLISHED-TTL:PT1H
BEGIN:VTIMEZONE
TZID:Australia/Perth
BEGIN:STANDARD
TZOFFSETFROM:+0800
TZOFFSETTO:+0800
TZNAME:AWST
DTSTART:20230101T000000
END:STANDARD
END:VTIMEZONE
BEGIN:VEVENT
DTSTART;TZID=Australia/Perth:20240423T180000
DTEND;TZID=Australia/Perth:20240423T190000
DTSTAMP:20260425T101554
CREATED:20240415T051133Z
LAST-MODIFIED:20240415T051133Z
UID:2208-1713895200-1713898800@sacredheartps.wa.edu.au
SUMMARY:SHS Sporting Group Committee Meeting
DESCRIPTION:In the Library
URL:https://sacredheartps.wa.edu.au/calendar/shs-sporting-group-committee-meeting/
CATEGORIES:School Events
END:VEVENT
BEGIN:VEVENT
DTSTART;TZID=Australia/Perth:20240424T090000
DTEND;TZID=Australia/Perth:20240424T100000
DTSTAMP:20260425T101554
CREATED:20240326T063734Z
LAST-MODIFIED:20240326T063734Z
UID:2132-1713949200-1713952800@sacredheartps.wa.edu.au
SUMMARY:Opening Term Mass
DESCRIPTION:Led by O’Connor
URL:https://sacredheartps.wa.edu.au/calendar/opening-term-mass/
CATEGORIES:School Events
END:VEVENT
BEGIN:VEVENT
DTSTART;TZID=Australia/Perth:20240429T090000
DTEND;TZID=Australia/Perth:20240429T093000
DTSTAMP:20260425T101554
CREATED:20240326T064027Z
LAST-MODIFIED:20240326T064027Z
UID:2138-1714381200-1714383000@sacredheartps.wa.edu.au
SUMMARY:ANZAC Day Prayer Service
DESCRIPTION:
URL:https://sacredheartps.wa.edu.au/calendar/anzac-day-prayer-service/
CATEGORIES:School Events
END:VEVENT
END:VCALENDAR