BEGIN:VCALENDAR
VERSION:2.0
PRODID:-//Sacred Heart School - Mundaring - ECPv6.15.20//NONSGML v1.0//EN
CALSCALE:GREGORIAN
METHOD:PUBLISH
X-WR-CALNAME:Sacred Heart School - Mundaring
X-ORIGINAL-URL:https://sacredheartps.wa.edu.au
X-WR-CALDESC:Events for Sacred Heart School - Mundaring
REFRESH-INTERVAL;VALUE=DURATION:PT1H
X-Robots-Tag:noindex
X-PUBLISHED-TTL:PT1H
BEGIN:VTIMEZONE
TZID:Australia/Perth
BEGIN:STANDARD
TZOFFSETFROM:+0800
TZOFFSETTO:+0800
TZNAME:AWST
DTSTART:20230101T000000
END:STANDARD
END:VTIMEZONE
BEGIN:VEVENT
DTSTART;TZID=Australia/Perth:20240303T093000
DTEND;TZID=Australia/Perth:20240303T103000
DTSTAMP:20260424T192203
CREATED:20240130T140654Z
LAST-MODIFIED:20240130T140654Z
UID:2031-1709458200-1709461800@sacredheartps.wa.edu.au
SUMMARY:Commissioning Mass for Sacramental Students (TBC)
DESCRIPTION:
URL:https://sacredheartps.wa.edu.au/calendar/commissioning-mass-for-sacramental-students-tbc/
CATEGORIES:School Events
END:VEVENT
BEGIN:VEVENT
DTSTART;TZID=Australia/Perth:20240306T090000
DTEND;TZID=Australia/Perth:20240306T094000
DTSTAMP:20260424T192203
CREATED:20240130T140902Z
LAST-MODIFIED:20240130T140902Z
UID:2035-1709715600-1709718000@sacredheartps.wa.edu.au
SUMMARY:Assembly - Year 3
DESCRIPTION:
URL:https://sacredheartps.wa.edu.au/calendar/assembly-year-3/
CATEGORIES:School Events
END:VEVENT
BEGIN:VEVENT
DTSTART;VALUE=DATE:20240313
DTEND;VALUE=DATE:20240314
DTSTAMP:20260424T192203
CREATED:20240130T141149Z
LAST-MODIFIED:20240130T141149Z
UID:2039-1710288000-1710374399@sacredheartps.wa.edu.au
SUMMARY:NAPLAN - Years 3 & 5 (Writing)
DESCRIPTION:
URL:https://sacredheartps.wa.edu.au/calendar/naplan-years-3-5-writing/
CATEGORIES:School Events
END:VEVENT
BEGIN:VEVENT
DTSTART;VALUE=DATE:20240314
DTEND;VALUE=DATE:20240315
DTSTAMP:20260424T192203
CREATED:20240130T141239Z
LAST-MODIFIED:20240130T141239Z
UID:2041-1710374400-1710460799@sacredheartps.wa.edu.au
SUMMARY:Faction Swimming Carnival at Bilgoman Pool
DESCRIPTION:
URL:https://sacredheartps.wa.edu.au/calendar/faction-swimming-carnival-at-bilgoman-pool/
CATEGORIES:School Events
END:VEVENT
BEGIN:VEVENT
DTSTART;VALUE=DATE:20240315
DTEND;VALUE=DATE:20240316
DTSTAMP:20260424T192203
CREATED:20240130T141345Z
LAST-MODIFIED:20240130T141345Z
UID:2043-1710460800-1710547199@sacredheartps.wa.edu.au
SUMMARY:NAPLAN - Years 3 & 5 (Reading)
DESCRIPTION:
URL:https://sacredheartps.wa.edu.au/calendar/naplan-years-3-5-reading/
CATEGORIES:School Events
END:VEVENT
BEGIN:VEVENT
DTSTART;VALUE=DATE:20240318
DTEND;VALUE=DATE:20240319
DTSTAMP:20260424T192203
CREATED:20240130T141427Z
LAST-MODIFIED:20240130T141427Z
UID:2045-1710720000-1710806399@sacredheartps.wa.edu.au
SUMMARY:NAPLAN - Years 3 & 5 (Conventions)
DESCRIPTION:
URL:https://sacredheartps.wa.edu.au/calendar/naplan-years-3-5-conventions/
CATEGORIES:School Events
END:VEVENT
BEGIN:VEVENT
DTSTART;VALUE=DATE:20240319
DTEND;VALUE=DATE:20240320
DTSTAMP:20260424T192203
CREATED:20240130T141551Z
LAST-MODIFIED:20240130T141551Z
UID:2049-1710806400-1710892799@sacredheartps.wa.edu.au
SUMMARY:NAPLAN - Years 3 & 5 (Numeracy)
DESCRIPTION:
URL:https://sacredheartps.wa.edu.au/calendar/naplan-years-3-5-numeracy/
CATEGORIES:School Events
END:VEVENT
BEGIN:VEVENT
DTSTART;TZID=Australia/Perth:20240320T090000
DTEND;TZID=Australia/Perth:20240320T100000
DTSTAMP:20260424T192203
CREATED:20240130T141735Z
LAST-MODIFIED:20240130T141735Z
UID:2051-1710925200-1710928800@sacredheartps.wa.edu.au
SUMMARY:Mass - St Joseph's Feast Day
DESCRIPTION:In Church
URL:https://sacredheartps.wa.edu.au/calendar/mass-st-josephs-feast-day/
CATEGORIES:School Events
END:VEVENT
BEGIN:VEVENT
DTSTART;VALUE=DATE:20240322
DTEND;VALUE=DATE:20240323
DTSTAMP:20260424T192203
CREATED:20240130T142101Z
LAST-MODIFIED:20240130T142101Z
UID:2057-1711065600-1711151999@sacredheartps.wa.edu.au
SUMMARY:Interschool Swimming Carnival - Years 3 to 6
DESCRIPTION:at Bayswater Waves
URL:https://sacredheartps.wa.edu.au/calendar/interschool-swimming-carnival-years-3-to-6/
CATEGORIES:School Events
END:VEVENT
BEGIN:VEVENT
DTSTART;TZID=Australia/Perth:20240328T090000
DTEND;TZID=Australia/Perth:20240328T093000
DTSTAMP:20260424T192203
CREATED:20240130T142229Z
LAST-MODIFIED:20240130T142229Z
UID:2059-1711616400-1711618200@sacredheartps.wa.edu.au
SUMMARY:Easter Service - Undercover Area
DESCRIPTION:
URL:https://sacredheartps.wa.edu.au/calendar/easter-service-undercover-area/
CATEGORIES:School Events
END:VEVENT
END:VCALENDAR