BEGIN:VCALENDAR
VERSION:2.0
PRODID:-//Sacred Heart School - Mundaring - ECPv6.15.20//NONSGML v1.0//EN
CALSCALE:GREGORIAN
METHOD:PUBLISH
X-WR-CALNAME:Sacred Heart School - Mundaring
X-ORIGINAL-URL:https://sacredheartps.wa.edu.au
X-WR-CALDESC:Events for Sacred Heart School - Mundaring
REFRESH-INTERVAL;VALUE=DURATION:PT1H
X-Robots-Tag:noindex
X-PUBLISHED-TTL:PT1H
BEGIN:VTIMEZONE
TZID:Australia/Perth
BEGIN:STANDARD
TZOFFSETFROM:+0800
TZOFFSETTO:+0800
TZNAME:AWST
DTSTART:20240101T000000
END:STANDARD
END:VTIMEZONE
BEGIN:VEVENT
DTSTART;VALUE=DATE:20250204
DTEND;VALUE=DATE:20250205
DTSTAMP:20260423T222531
CREATED:20241211T025248Z
LAST-MODIFIED:20241211T025411Z
UID:2531-1738627200-1738713599@sacredheartps.wa.edu.au
SUMMARY:PUPIL FREE DAY
DESCRIPTION:
URL:https://sacredheartps.wa.edu.au/calendar/pupil-free-day-8/
CATEGORIES:Public Holidays
END:VEVENT
END:VCALENDAR