BEGIN:VCALENDAR
VERSION:2.0
PRODID:-//Sacred Heart School - Mundaring - ECPv6.15.20//NONSGML v1.0//EN
CALSCALE:GREGORIAN
METHOD:PUBLISH
X-WR-CALNAME:Sacred Heart School - Mundaring
X-ORIGINAL-URL:https://sacredheartps.wa.edu.au
X-WR-CALDESC:Events for Sacred Heart School - Mundaring
REFRESH-INTERVAL;VALUE=DURATION:PT1H
X-Robots-Tag:noindex
X-PUBLISHED-TTL:PT1H
BEGIN:VTIMEZONE
TZID:Australia/Perth
BEGIN:STANDARD
TZOFFSETFROM:+0800
TZOFFSETTO:+0800
TZNAME:AWST
DTSTART:20230101T000000
END:STANDARD
END:VTIMEZONE
BEGIN:VEVENT
DTSTART;TZID=Australia/Perth:20240808T090000
DTEND;TZID=Australia/Perth:20240808T100000
DTSTAMP:20260424T052505
CREATED:20240621T070102Z
LAST-MODIFIED:20240621T070102Z
UID:2323-1723107600-1723111200@sacredheartps.wa.edu.au
SUMMARY:Mass - St Mary of the Cross Feast Day
DESCRIPTION:Led by Jacoby
URL:https://sacredheartps.wa.edu.au/calendar/mass-st-mary-of-the-cross-feast-day/
CATEGORIES:Public Holidays
END:VEVENT
END:VCALENDAR