BEGIN:VCALENDAR
VERSION:2.0
PRODID:-//Sacred Heart School - Mundaring - ECPv6.15.20//NONSGML v1.0//EN
CALSCALE:GREGORIAN
METHOD:PUBLISH
X-WR-CALNAME:Sacred Heart School - Mundaring
X-ORIGINAL-URL:https://sacredheartps.wa.edu.au
X-WR-CALDESC:Events for Sacred Heart School - Mundaring
REFRESH-INTERVAL;VALUE=DURATION:PT1H
X-Robots-Tag:noindex
X-PUBLISHED-TTL:PT1H
BEGIN:VTIMEZONE
TZID:Australia/Perth
BEGIN:STANDARD
TZOFFSETFROM:+0800
TZOFFSETTO:+0800
TZNAME:AWST
DTSTART:20240101T000000
END:STANDARD
END:VTIMEZONE
BEGIN:VEVENT
DTSTART;VALUE=DATE:20251027
DTEND;VALUE=DATE:20251108
DTSTAMP:20260423T194726
CREATED:20250925T012132Z
LAST-MODIFIED:20250925T012422Z
UID:2810-1761523200-1762559999@sacredheartps.wa.edu.au
SUMMARY:SWIMMING LESSONS
DESCRIPTION:Continue for two weeks from 27 October to 7 November \n10.55am – Years 2\, 4\, 6 \n11.40am – Years 1\, 3\, 5
URL:https://sacredheartps.wa.edu.au/calendar/swimming-lessons-commence-2/
CATEGORIES:Pre Primary
END:VEVENT
END:VCALENDAR