BEGIN:VCALENDAR
VERSION:2.0
PRODID:-//Sacred Heart School - Mundaring - ECPv6.15.20//NONSGML v1.0//EN
CALSCALE:GREGORIAN
METHOD:PUBLISH
X-ORIGINAL-URL:https://sacredheartps.wa.edu.au
X-WR-CALDESC:Events for Sacred Heart School - Mundaring
REFRESH-INTERVAL;VALUE=DURATION:PT1H
X-Robots-Tag:noindex
X-PUBLISHED-TTL:PT1H
BEGIN:VTIMEZONE
TZID:Australia/Perth
BEGIN:STANDARD
TZOFFSETFROM:+0800
TZOFFSETTO:+0800
TZNAME:AWST
DTSTART:20240101T000000
END:STANDARD
END:VTIMEZONE
BEGIN:VEVENT
DTSTART;TZID=Australia/Perth:20250611T090000
DTEND;TZID=Australia/Perth:20250611T100000
DTSTAMP:20260424T192714
CREATED:20250311T024219Z
LAST-MODIFIED:20250311T024219Z
UID:2674-1749632400-1749636000@sacredheartps.wa.edu.au
SUMMARY:Parish Mass - Years 3 & 4
DESCRIPTION:
URL:https://sacredheartps.wa.edu.au/calendar/parish-mass-years-3-4/
CATEGORIES:Kindergarten
END:VEVENT
BEGIN:VEVENT
DTSTART;TZID=Australia/Perth:20250614T180000
DTEND;TZID=Australia/Perth:20250614T190000
DTSTAMP:20260424T192714
CREATED:20250311T024306Z
LAST-MODIFIED:20250311T024306Z
UID:2676-1749924000-1749927600@sacredheartps.wa.edu.au
SUMMARY:First Holy Communion - Commitment Mass
DESCRIPTION:
URL:https://sacredheartps.wa.edu.au/calendar/first-holy-communion-commitment-mass-2/
CATEGORIES:Kindergarten
END:VEVENT
BEGIN:VEVENT
DTSTART;TZID=Australia/Perth:20250617T090000
DTEND;TZID=Australia/Perth:20250617T100000
DTSTAMP:20260424T192714
CREATED:20250311T024413Z
LAST-MODIFIED:20250311T024413Z
UID:2678-1750150800-1750154400@sacredheartps.wa.edu.au
SUMMARY:St Emilie De Villar - Mass
DESCRIPTION:
URL:https://sacredheartps.wa.edu.au/calendar/st-emilie-de-villar-mass/
CATEGORIES:Kindergarten
END:VEVENT
BEGIN:VEVENT
DTSTART;TZID=Australia/Perth:20251022T180000
DTEND;TZID=Australia/Perth:20251022T193000
DTSTAMP:20260424T192714
CREATED:20250925T011041Z
LAST-MODIFIED:20250925T011041Z
UID:2805-1761156000-1761161400@sacredheartps.wa.edu.au
SUMMARY:Sacrament of Reconciliation - Workshop
DESCRIPTION:
URL:https://sacredheartps.wa.edu.au/calendar/sacrament-of-reconciliation-workshop/
CATEGORIES:Kindergarten
END:VEVENT
BEGIN:VEVENT
DTSTART;TZID=Australia/Perth:20251030T140000
DTEND;TZID=Australia/Perth:20251030T150000
DTSTAMP:20260424T192714
CREATED:20250925T021341Z
LAST-MODIFIED:20250925T021341Z
UID:2843-1761832800-1761836400@sacredheartps.wa.edu.au
SUMMARY:P&F Meeting (TBC)
DESCRIPTION:
URL:https://sacredheartps.wa.edu.au/calendar/pf-meeting-tbc/
CATEGORIES:Kindergarten
END:VEVENT
BEGIN:VEVENT
DTSTART;TZID=Australia/Perth:20260202T090000
DTEND;TZID=Australia/Perth:20260202T100000
DTSTAMP:20260424T192714
CREATED:20251217T024341Z
LAST-MODIFIED:20251217T024341Z
UID:2916-1770022800-1770026400@sacredheartps.wa.edu.au
SUMMARY:P&F Welcome Morning Tea
DESCRIPTION:For new and returning families
URL:https://sacredheartps.wa.edu.au/calendar/pf-welcome-morning-tea-2/
CATEGORIES:Kindergarten
END:VEVENT
BEGIN:VEVENT
DTSTART;TZID=Australia/Perth:20260202T093000
DTEND;TZID=Australia/Perth:20260202T103000
DTSTAMP:20260424T192714
CREATED:20251217T024432Z
LAST-MODIFIED:20260127T080059Z
UID:2918-1770024600-1770028200@sacredheartps.wa.edu.au
SUMMARY:P&F Meeting
DESCRIPTION:
URL:https://sacredheartps.wa.edu.au/calendar/pf-meeting-6/
CATEGORIES:Kindergarten
END:VEVENT
BEGIN:VEVENT
DTSTART;TZID=Australia/Perth:20260213T080000
DTEND;TZID=Australia/Perth:20260213T170000
DTSTAMP:20260424T192714
CREATED:20251217T025540Z
LAST-MODIFIED:20251217T025540Z
UID:2927-1770969600-1771002000@sacredheartps.wa.edu.au
SUMMARY:P&F Sundowner (TBC)
DESCRIPTION:
URL:https://sacredheartps.wa.edu.au/calendar/pf-sundowner-tbc/
CATEGORIES:Kindergarten
END:VEVENT
END:VCALENDAR