BEGIN:VCALENDAR
VERSION:2.0
PRODID:-//Sacred Heart School - Mundaring - ECPv6.15.20//NONSGML v1.0//EN
CALSCALE:GREGORIAN
METHOD:PUBLISH
X-WR-CALNAME:Sacred Heart School - Mundaring
X-ORIGINAL-URL:https://sacredheartps.wa.edu.au
X-WR-CALDESC:Events for Sacred Heart School - Mundaring
REFRESH-INTERVAL;VALUE=DURATION:PT1H
X-Robots-Tag:noindex
X-PUBLISHED-TTL:PT1H
BEGIN:VTIMEZONE
TZID:Australia/Perth
BEGIN:STANDARD
TZOFFSETFROM:+0800
TZOFFSETTO:+0800
TZNAME:AWST
DTSTART:20240101T000000
END:STANDARD
END:VTIMEZONE
BEGIN:VEVENT
DTSTART;TZID=Australia/Perth:20250607T180000
DTEND;TZID=Australia/Perth:20250607T190000
DTSTAMP:20260424T004218
CREATED:20250311T024059Z
LAST-MODIFIED:20250311T024059Z
UID:2670-1749319200-1749322800@sacredheartps.wa.edu.au
SUMMARY:First Holy Communion - Commitment Mass
DESCRIPTION:
URL:https://sacredheartps.wa.edu.au/calendar/first-holy-communion-commitment-mass/
CATEGORIES:Kindergarten
END:VEVENT
BEGIN:VEVENT
DTSTART;TZID=Australia/Perth:20250611T090000
DTEND;TZID=Australia/Perth:20250611T100000
DTSTAMP:20260424T004218
CREATED:20250311T024219Z
LAST-MODIFIED:20250311T024219Z
UID:2674-1749632400-1749636000@sacredheartps.wa.edu.au
SUMMARY:Parish Mass - Years 3 & 4
DESCRIPTION:
URL:https://sacredheartps.wa.edu.au/calendar/parish-mass-years-3-4/
CATEGORIES:Kindergarten
END:VEVENT
BEGIN:VEVENT
DTSTART;TZID=Australia/Perth:20250614T180000
DTEND;TZID=Australia/Perth:20250614T190000
DTSTAMP:20260424T004218
CREATED:20250311T024306Z
LAST-MODIFIED:20250311T024306Z
UID:2676-1749924000-1749927600@sacredheartps.wa.edu.au
SUMMARY:First Holy Communion - Commitment Mass
DESCRIPTION:
URL:https://sacredheartps.wa.edu.au/calendar/first-holy-communion-commitment-mass-2/
CATEGORIES:Kindergarten
END:VEVENT
BEGIN:VEVENT
DTSTART;TZID=Australia/Perth:20250617T090000
DTEND;TZID=Australia/Perth:20250617T100000
DTSTAMP:20260424T004218
CREATED:20250311T024413Z
LAST-MODIFIED:20250311T024413Z
UID:2678-1750150800-1750154400@sacredheartps.wa.edu.au
SUMMARY:St Emilie De Villar - Mass
DESCRIPTION:
URL:https://sacredheartps.wa.edu.au/calendar/st-emilie-de-villar-mass/
CATEGORIES:Kindergarten
END:VEVENT
END:VCALENDAR