BEGIN:VCALENDAR
VERSION:2.0
PRODID:-//Sacred Heart School - Mundaring - ECPv6.15.20//NONSGML v1.0//EN
CALSCALE:GREGORIAN
METHOD:PUBLISH
X-ORIGINAL-URL:https://sacredheartps.wa.edu.au
X-WR-CALDESC:Events for Sacred Heart School - Mundaring
REFRESH-INTERVAL;VALUE=DURATION:PT1H
X-Robots-Tag:noindex
X-PUBLISHED-TTL:PT1H
BEGIN:VTIMEZONE
TZID:Australia/Perth
BEGIN:STANDARD
TZOFFSETFROM:+0800
TZOFFSETTO:+0800
TZNAME:AWST
DTSTART:20240101T000000
END:STANDARD
END:VTIMEZONE
BEGIN:VEVENT
DTSTART;VALUE=DATE:20250214
DTEND;VALUE=DATE:20250215
DTSTAMP:20260424T011729
CREATED:20241211T030341Z
LAST-MODIFIED:20241211T030435Z
UID:2543-1739491200-1739577599@sacredheartps.wa.edu.au
SUMMARY:Edu-Dance Sessions Commence...
DESCRIPTION:Sessions continue each Friday of term until 4 April 2025
URL:https://sacredheartps.wa.edu.au/calendar/edu-dance-sessions-commence/
CATEGORIES:Incursions/Excursions
END:VEVENT
END:VCALENDAR