BEGIN:VCALENDAR
VERSION:2.0
PRODID:-//Sacred Heart School - Mundaring - ECPv6.15.20//NONSGML v1.0//EN
CALSCALE:GREGORIAN
METHOD:PUBLISH
X-ORIGINAL-URL:https://sacredheartps.wa.edu.au
X-WR-CALDESC:Events for Sacred Heart School - Mundaring
REFRESH-INTERVAL;VALUE=DURATION:PT1H
X-Robots-Tag:noindex
X-PUBLISHED-TTL:PT1H
BEGIN:VTIMEZONE
TZID:Australia/Perth
BEGIN:STANDARD
TZOFFSETFROM:+0800
TZOFFSETTO:+0800
TZNAME:AWST
DTSTART:20230101T000000
END:STANDARD
END:VTIMEZONE
BEGIN:VEVENT
DTSTART;TZID=Australia/Perth:20240830T073000
DTEND;TZID=Australia/Perth:20240830T083000
DTSTAMP:20260424T055718
CREATED:20240621T071357Z
LAST-MODIFIED:20240621T071357Z
UID:2342-1725003000-1725006600@sacredheartps.wa.edu.au
SUMMARY:P&F Fathers Day Breakfast
DESCRIPTION:
URL:https://sacredheartps.wa.edu.au/calendar/pf-fathers-day-breakfast/
CATEGORIES:Incursions/Excursions
END:VEVENT
END:VCALENDAR