BEGIN:VCALENDAR
VERSION:2.0
PRODID:-//Sacred Heart School - Mundaring - ECPv6.15.20//NONSGML v1.0//EN
CALSCALE:GREGORIAN
METHOD:PUBLISH
X-WR-CALNAME:Sacred Heart School - Mundaring
X-ORIGINAL-URL:https://sacredheartps.wa.edu.au
X-WR-CALDESC:Events for Sacred Heart School - Mundaring
REFRESH-INTERVAL;VALUE=DURATION:PT1H
X-Robots-Tag:noindex
X-PUBLISHED-TTL:PT1H
BEGIN:VTIMEZONE
TZID:Australia/Perth
BEGIN:STANDARD
TZOFFSETFROM:+0800
TZOFFSETTO:+0800
TZNAME:AWST
DTSTART:20230101T000000
END:STANDARD
END:VTIMEZONE
BEGIN:VEVENT
DTSTART;TZID=Australia/Perth:20240820T135000
DTEND;TZID=Australia/Perth:20240820T145000
DTSTAMP:20260424T082637
CREATED:20240621T071028Z
LAST-MODIFIED:20240621T071028Z
UID:2334-1724161800-1724165400@sacredheartps.wa.edu.au
SUMMARY:BOOK WEEK - Incursion
DESCRIPTION:Maybe a Miracle!
URL:https://sacredheartps.wa.edu.au/calendar/book-week-incursion/
CATEGORIES:Incursions/Excursions
END:VEVENT
END:VCALENDAR